BEGIN:VCALENDAR
VERSION:2.0
PRODID:-//Ville de Salon-de-Provence - ECPv6.15.17.1//NONSGML v1.0//EN
CALSCALE:GREGORIAN
METHOD:PUBLISH
X-WR-CALNAME:Ville de Salon-de-Provence
X-ORIGINAL-URL:https://www.salondeprovence.fr
X-WR-CALDESC:Évènements pour Ville de Salon-de-Provence
REFRESH-INTERVAL;VALUE=DURATION:PT1H
X-Robots-Tag:noindex
X-PUBLISHED-TTL:PT1H
BEGIN:VTIMEZONE
TZID:Europe/Paris
BEGIN:DAYLIGHT
TZOFFSETFROM:+0100
TZOFFSETTO:+0200
TZNAME:CEST
DTSTART:20250330T010000
END:DAYLIGHT
BEGIN:STANDARD
TZOFFSETFROM:+0200
TZOFFSETTO:+0100
TZNAME:CET
DTSTART:20251026T010000
END:STANDARD
BEGIN:DAYLIGHT
TZOFFSETFROM:+0100
TZOFFSETTO:+0200
TZNAME:CEST
DTSTART:20260329T010000
END:DAYLIGHT
BEGIN:STANDARD
TZOFFSETFROM:+0200
TZOFFSETTO:+0100
TZNAME:CET
DTSTART:20261025T010000
END:STANDARD
BEGIN:DAYLIGHT
TZOFFSETFROM:+0100
TZOFFSETTO:+0200
TZNAME:CEST
DTSTART:20270328T010000
END:DAYLIGHT
BEGIN:STANDARD
TZOFFSETFROM:+0200
TZOFFSETTO:+0100
TZNAME:CET
DTSTART:20271031T010000
END:STANDARD
END:VTIMEZONE
BEGIN:VEVENT
DTSTART;TZID=Europe/Paris:20260603T180000
DTEND;TZID=Europe/Paris:20260603T190000
DTSTAMP:20260420T154252
CREATED:20260417T072806Z
LAST-MODIFIED:20260417T072806Z
UID:10002772-1780509600-1780513200@www.salondeprovence.fr
SUMMARY:Conférence Le monde merveilleux des musées
DESCRIPTION:Mercredi 3 juin \n18h – Maison de la Vie Associative \nL’Université Populaire du Pays salonais invite Jean-Louis Riccioli\, ancien conservateur du musée de l’Empéri\, pour échanger sur le monde des musées. \nEntrée libre – Renseignements christophe.jenta@wanadoo.fr
URL:https://www.salondeprovence.fr/agenda/conference-le-monde-merveilleux-des-musees/
LOCATION:Maison de la Vie Associative\, 55 Rue André Marie Ampère\, Salon-de-Provence
CATEGORIES:Conférences
ATTACH;FMTTYPE=image/jpeg:https://www.salondeprovence.fr/wp-content/uploads/2026/02/conference.jpg
GEO:43.63945;5.1083999
X-APPLE-STRUCTURED-LOCATION;VALUE=URI;X-ADDRESS=Maison de la Vie Associative 55 Rue André Marie Ampère Salon-de-Provence;X-APPLE-RADIUS=500;X-TITLE=55 Rue André Marie Ampère:geo:5.1083999,43.63945
END:VEVENT
BEGIN:VEVENT
DTSTART;TZID=Europe/Paris:20260610T180000
DTEND;TZID=Europe/Paris:20260610T190000
DTSTAMP:20260420T154252
CREATED:20260417T094819Z
LAST-MODIFIED:20260417T094819Z
UID:10002809-1781114400-1781118000@www.salondeprovence.fr
SUMMARY:Conférence Le changement climatique
DESCRIPTION:Mercredi 10 juin \n18h – Maison de la Vie Associative \nL’Université Populaire du Pays salonais invite Michèle Texier\, professeure de sciences\, pour comprendre les causes et les conséquences du changement climatique. \nEntrée libre – Renseignements christophe.jenta@wanadoo.fr
URL:https://www.salondeprovence.fr/agenda/conference-le-changement-climatique/
LOCATION:Maison de la Vie Associative\, 55 Rue André Marie Ampère\, Salon-de-Provence
CATEGORIES:Conférences
ATTACH;FMTTYPE=image/jpeg:https://www.salondeprovence.fr/wp-content/uploads/2026/02/conference.jpg
GEO:43.63945;5.1083999
X-APPLE-STRUCTURED-LOCATION;VALUE=URI;X-ADDRESS=Maison de la Vie Associative 55 Rue André Marie Ampère Salon-de-Provence;X-APPLE-RADIUS=500;X-TITLE=55 Rue André Marie Ampère:geo:5.1083999,43.63945
END:VEVENT
END:VCALENDAR