BEGIN:VCALENDAR
VERSION:2.0
PRODID:-//Ville de Salon-de-Provence - ECPv6.15.17.1//NONSGML v1.0//EN
CALSCALE:GREGORIAN
METHOD:PUBLISH
X-ORIGINAL-URL:https://www.salondeprovence.fr
X-WR-CALDESC:Évènements pour Ville de Salon-de-Provence
REFRESH-INTERVAL;VALUE=DURATION:PT1H
X-Robots-Tag:noindex
X-PUBLISHED-TTL:PT1H
BEGIN:VTIMEZONE
TZID:Europe/Paris
BEGIN:DAYLIGHT
TZOFFSETFROM:+0100
TZOFFSETTO:+0200
TZNAME:CEST
DTSTART:20250330T010000
END:DAYLIGHT
BEGIN:STANDARD
TZOFFSETFROM:+0200
TZOFFSETTO:+0100
TZNAME:CET
DTSTART:20251026T010000
END:STANDARD
BEGIN:DAYLIGHT
TZOFFSETFROM:+0100
TZOFFSETTO:+0200
TZNAME:CEST
DTSTART:20260329T010000
END:DAYLIGHT
BEGIN:STANDARD
TZOFFSETFROM:+0200
TZOFFSETTO:+0100
TZNAME:CET
DTSTART:20261025T010000
END:STANDARD
BEGIN:DAYLIGHT
TZOFFSETFROM:+0100
TZOFFSETTO:+0200
TZNAME:CEST
DTSTART:20270328T010000
END:DAYLIGHT
BEGIN:STANDARD
TZOFFSETFROM:+0200
TZOFFSETTO:+0100
TZNAME:CET
DTSTART:20271031T010000
END:STANDARD
END:VTIMEZONE
BEGIN:VEVENT
DTSTART;TZID=Europe/Paris:20260521T103000
DTEND;TZID=Europe/Paris:20260521T170000
DTSTAMP:20260420T154716
CREATED:20260417T083735Z
LAST-MODIFIED:20260417T083735Z
UID:10002781-1779359400-1779382800@www.salondeprovence.fr
SUMMARY:Courses Hippodrome
DESCRIPTION:Jeudi 21 mai \nA partir de 10h45 – Hippodrome\, route d’Arles \nL’Hippodrome de Salon organise 8 courses de trot premium. \nhippodrome-salon-de-provence.fr
URL:https://www.salondeprovence.fr/agenda/courses-hippodrome-3/
CATEGORIES:Événements sportifs
ATTACH;FMTTYPE=image/jpeg:https://www.salondeprovence.fr/wp-content/uploads/2023/06/810525-les-48h-de-l-obstacle-2022-courses-hippiques-et-animations-a-l-hippodrome-d-auteuil.jpg
END:VEVENT
END:VCALENDAR