BEGIN:VCALENDAR
VERSION:2.0
PRODID:-//Ville de Salon-de-Provence - ECPv6.15.17.1//NONSGML v1.0//EN
CALSCALE:GREGORIAN
METHOD:PUBLISH
X-ORIGINAL-URL:https://www.salondeprovence.fr
X-WR-CALDESC:Évènements pour Ville de Salon-de-Provence
REFRESH-INTERVAL;VALUE=DURATION:PT1H
X-Robots-Tag:noindex
X-PUBLISHED-TTL:PT1H
BEGIN:VTIMEZONE
TZID:Europe/Paris
BEGIN:DAYLIGHT
TZOFFSETFROM:+0100
TZOFFSETTO:+0200
TZNAME:CEST
DTSTART:20250330T010000
END:DAYLIGHT
BEGIN:STANDARD
TZOFFSETFROM:+0200
TZOFFSETTO:+0100
TZNAME:CET
DTSTART:20251026T010000
END:STANDARD
BEGIN:DAYLIGHT
TZOFFSETFROM:+0100
TZOFFSETTO:+0200
TZNAME:CEST
DTSTART:20260329T010000
END:DAYLIGHT
BEGIN:STANDARD
TZOFFSETFROM:+0200
TZOFFSETTO:+0100
TZNAME:CET
DTSTART:20261025T010000
END:STANDARD
BEGIN:DAYLIGHT
TZOFFSETFROM:+0100
TZOFFSETTO:+0200
TZNAME:CEST
DTSTART:20270328T010000
END:DAYLIGHT
BEGIN:STANDARD
TZOFFSETFROM:+0200
TZOFFSETTO:+0100
TZNAME:CET
DTSTART:20271031T010000
END:STANDARD
END:VTIMEZONE
BEGIN:VEVENT
DTSTART;TZID=Europe/Paris:20260517T100000
DTEND;TZID=Europe/Paris:20260517T170000
DTSTAMP:20260420T125823
CREATED:20260416T123533Z
LAST-MODIFIED:20260416T123533Z
UID:10002759-1779012000-1779037200@www.salondeprovence.fr
SUMMARY:A l’assaut du Talagard
DESCRIPTION:Dimanche 17 mai \nDépart et arrivée au Domaine de Roquerousse \nPrêts à vous lancer dans cette épreuve sportive ? La Foulée salonaise organise une nouvelle édition de ce rendez-vous apprécié des coureurs. Plusieurs épreuves sont au programme : une course élite de 12 km\, deux courses de 6 km en solo et en duo\, une marche de 6 km et une course gratuite pour les enfants. \nInscriptions sur www.sportsnconnect.com
URL:https://www.salondeprovence.fr/agenda/a-lassaut-du-talagard/
CATEGORIES:Événements sportifs
ATTACH;FMTTYPE=image/jpeg:https://www.salondeprovence.fr/wp-content/uploads/2026/04/initial-assaut-du-talagard-salon-de-provence.jpg
END:VEVENT
END:VCALENDAR