BEGIN:VCALENDAR
VERSION:2.0
PRODID:-//Ville de Salon-de-Provence - ECPv6.15.17.1//NONSGML v1.0//EN
CALSCALE:GREGORIAN
METHOD:PUBLISH
X-WR-CALNAME:Ville de Salon-de-Provence
X-ORIGINAL-URL:https://www.salondeprovence.fr
X-WR-CALDESC:Évènements pour Ville de Salon-de-Provence
REFRESH-INTERVAL;VALUE=DURATION:PT1H
X-Robots-Tag:noindex
X-PUBLISHED-TTL:PT1H
BEGIN:VTIMEZONE
TZID:Europe/Paris
BEGIN:DAYLIGHT
TZOFFSETFROM:+0100
TZOFFSETTO:+0200
TZNAME:CEST
DTSTART:20240331T010000
END:DAYLIGHT
BEGIN:STANDARD
TZOFFSETFROM:+0200
TZOFFSETTO:+0100
TZNAME:CET
DTSTART:20241027T010000
END:STANDARD
BEGIN:DAYLIGHT
TZOFFSETFROM:+0100
TZOFFSETTO:+0200
TZNAME:CEST
DTSTART:20250330T010000
END:DAYLIGHT
BEGIN:STANDARD
TZOFFSETFROM:+0200
TZOFFSETTO:+0100
TZNAME:CET
DTSTART:20251026T010000
END:STANDARD
BEGIN:DAYLIGHT
TZOFFSETFROM:+0100
TZOFFSETTO:+0200
TZNAME:CEST
DTSTART:20260329T010000
END:DAYLIGHT
BEGIN:STANDARD
TZOFFSETFROM:+0200
TZOFFSETTO:+0100
TZNAME:CET
DTSTART:20261025T010000
END:STANDARD
END:VTIMEZONE
BEGIN:VEVENT
DTSTART;TZID=Europe/Paris:20250912T203000
DTEND;TZID=Europe/Paris:20250912T223000
DTSTAMP:20260420T155640
CREATED:20250910T132628Z
LAST-MODIFIED:20250910T132628Z
UID:10002339-1757709000-1757716200@www.salondeprovence.fr
SUMMARY:Match Coupe de France - Pays Salonais Basket 13
DESCRIPTION:Vendredi 12 septembre \n20h30 – Gymnase Saint-Côme \n\nVenez supporter l’équipe du Pays Salonais Basket 13 pour la Coupe de France !\nLes joueurs rencontrent l’équipe d’Antibes sur le parquet du gymnase Saint-Côme.\nAllez les Tigers !
URL:https://www.salondeprovence.fr/agenda/match-coupe-de-france-pays-salonais-basket-13/
LOCATION:Gymnase Saint-Côme\, 290 chemin de Saint-Côme\, Salon-de-Provence\, 13300\, France
CATEGORIES:Événements sportifs
ATTACH;FMTTYPE=image/jpeg:https://www.salondeprovence.fr/wp-content/uploads/2024/03/Pays-salonais-basket-13.jpg
GEO:43.6443072;5.1040765
X-APPLE-STRUCTURED-LOCATION;VALUE=URI;X-ADDRESS=Gymnase Saint-Côme 290 chemin de Saint-Côme Salon-de-Provence 13300 France;X-APPLE-RADIUS=500;X-TITLE=290 chemin de Saint-Côme:geo:5.1040765,43.6443072
END:VEVENT
BEGIN:VEVENT
DTSTART;VALUE=DATE:20250914
DTEND;VALUE=DATE:20250915
DTSTAMP:20260420T155640
CREATED:20250829T095535Z
LAST-MODIFIED:20250829T095709Z
UID:10001707-1757808000-1757894399@www.salondeprovence.fr
SUMMARY:Zonta Boule
DESCRIPTION:Dimanche 14 septembre  \nA partir de 9h – Boulodrome\, boulevard du Roi René \nLe Zonta organise un tournoi de pétanque\, ouvert à tous ! Licenciés ou juste amateurs\, vous pouvez venir partager cette journée conviviale.Les joueurs peuvent constituer leur équipe (triplette choisie) \nLe Zonta œuvrant pour construire un monde meilleur pour les femmes\, les bénéfices de cette journée seront utilisés pour soutenir des projets éducatifs pour les jeunes filles. \nCafé d’accueil et repas inclus dans le prix d’inscription. 3 prix seront décernés : 300€\, 150€ et 75€. \nTarifs :  participation au tournoi + brunch (café d’accueil et repas) : 25€\, accompagnants 15€\, moins de 10 ans 5€
URL:https://www.salondeprovence.fr/agenda/zonta-boule/
CATEGORIES:Autres,Événements sportifs
ATTACH;FMTTYPE=image/jpeg:https://www.salondeprovence.fr/wp-content/uploads/2025/08/2025-ZONTA-BOULE-a3_page-0001.jpg
END:VEVENT
END:VCALENDAR