BEGIN:VCALENDAR
VERSION:2.0
PRODID:-//Ville de Salon-de-Provence - ECPv6.15.17.1//NONSGML v1.0//EN
CALSCALE:GREGORIAN
METHOD:PUBLISH
X-WR-CALNAME:Ville de Salon-de-Provence
X-ORIGINAL-URL:https://www.salondeprovence.fr
X-WR-CALDESC:Évènements pour Ville de Salon-de-Provence
REFRESH-INTERVAL;VALUE=DURATION:PT1H
X-Robots-Tag:noindex
X-PUBLISHED-TTL:PT1H
BEGIN:VTIMEZONE
TZID:Europe/Paris
BEGIN:DAYLIGHT
TZOFFSETFROM:+0100
TZOFFSETTO:+0200
TZNAME:CEST
DTSTART:20250330T010000
END:DAYLIGHT
BEGIN:STANDARD
TZOFFSETFROM:+0200
TZOFFSETTO:+0100
TZNAME:CET
DTSTART:20251026T010000
END:STANDARD
BEGIN:DAYLIGHT
TZOFFSETFROM:+0100
TZOFFSETTO:+0200
TZNAME:CEST
DTSTART:20260329T010000
END:DAYLIGHT
BEGIN:STANDARD
TZOFFSETFROM:+0200
TZOFFSETTO:+0100
TZNAME:CET
DTSTART:20261025T010000
END:STANDARD
BEGIN:DAYLIGHT
TZOFFSETFROM:+0100
TZOFFSETTO:+0200
TZNAME:CEST
DTSTART:20270328T010000
END:DAYLIGHT
BEGIN:STANDARD
TZOFFSETFROM:+0200
TZOFFSETTO:+0100
TZNAME:CET
DTSTART:20271031T010000
END:STANDARD
END:VTIMEZONE
BEGIN:VEVENT
DTSTART;TZID=Europe/Paris:20260523T100000
DTEND;TZID=Europe/Paris:20261003T180000
DTSTAMP:20260421T202235
CREATED:20260417T093920Z
LAST-MODIFIED:20260417T093920Z
UID:10002805-1779530400-1791050400@www.salondeprovence.fr
SUMMARY:Exposition Demonio(s)
DESCRIPTION:Du 23 mai au 3 octobre \nTous les jours sauf le mardi : 10h – 12h / 13h – 18h – Château de l’Empéri \nLa nouvelle exposition de Paco Gomez s’installe au cœur du Château de l’Empéri. Porté par la force minérale des pierres et l’histoire du lieu\, l’artiste investit la Salle des Écuries avec une installation saisissante. Les Demonios apparaissent en nombre\, alignés comme une assemblée silencieuse aux allures de rituel. Ces figures cornues n’évoquent pourtant ni la peur ni la menace\, mais une présence calme\, presque apaisante. Ses œuvres portent l’empreinte de l’art africain et des arts premiers\, perceptible dans leur frontalité et leur verticalité\, tandis que l’univers de la bande dessinée\, notamment celui de Moebius\, nourrit un imaginaire libre et visionnaire. Ici\, le démon n’est pas une figure sombre : il devient mémoire ancienne\, force intérieure\, présence protectrice. \nVernissage le vendredi 29 mai à 19h en présence de l’artiste.
URL:https://www.salondeprovence.fr/agenda/exposition-demonios/
LOCATION:Provence-Alpes-Côte d'Azur
CATEGORIES:Expositions
ATTACH;FMTTYPE=image/webp:https://www.salondeprovence.fr/wp-content/uploads/2026/04/gomez.webp
END:VEVENT
END:VCALENDAR