BEGIN:VCALENDAR
VERSION:2.0
PRODID:-//Ville de Salon-de-Provence - ECPv6.15.17.1//NONSGML v1.0//EN
CALSCALE:GREGORIAN
METHOD:PUBLISH
X-ORIGINAL-URL:https://www.salondeprovence.fr
X-WR-CALDESC:Évènements pour Ville de Salon-de-Provence
REFRESH-INTERVAL;VALUE=DURATION:PT1H
X-Robots-Tag:noindex
X-PUBLISHED-TTL:PT1H
BEGIN:VTIMEZONE
TZID:Europe/Paris
BEGIN:DAYLIGHT
TZOFFSETFROM:+0100
TZOFFSETTO:+0200
TZNAME:CEST
DTSTART:20240331T010000
END:DAYLIGHT
BEGIN:STANDARD
TZOFFSETFROM:+0200
TZOFFSETTO:+0100
TZNAME:CET
DTSTART:20241027T010000
END:STANDARD
BEGIN:DAYLIGHT
TZOFFSETFROM:+0100
TZOFFSETTO:+0200
TZNAME:CEST
DTSTART:20250330T010000
END:DAYLIGHT
BEGIN:STANDARD
TZOFFSETFROM:+0200
TZOFFSETTO:+0100
TZNAME:CET
DTSTART:20251026T010000
END:STANDARD
BEGIN:DAYLIGHT
TZOFFSETFROM:+0100
TZOFFSETTO:+0200
TZNAME:CEST
DTSTART:20260329T010000
END:DAYLIGHT
BEGIN:STANDARD
TZOFFSETFROM:+0200
TZOFFSETTO:+0100
TZNAME:CET
DTSTART:20261025T010000
END:STANDARD
END:VTIMEZONE
BEGIN:VEVENT
DTSTART;TZID=Europe/Paris:20251120T080000
DTEND;TZID=Europe/Paris:20251120T170000
DTSTAMP:20260419T221958
CREATED:20251120T093020Z
LAST-MODIFIED:20251120T093119Z
UID:10002421-1763625600-1763658000@www.salondeprovence.fr
SUMMARY:Lecture Kamishibaï et atelier créatif de Noël
DESCRIPTION:Mercredi 10 décembre \n15h – Médiathèque \nPustula est une sorcière qui n’aime rien tant que sa tranquillité. Mais voilà\, le soir de Noël\, un lutin tombe du traîneau du Père Noël et frappe à sa porte… \nDès 6 ans – Inscriptions au 04 90 56 74 16 \nwww.bibliotheque.salon-de-provence.fr
URL:https://www.salondeprovence.fr/agenda/lecture-kamishibai-et-atelier-creatif-de-noel/
LOCATION:Provence-Alpes-Côte d'Azur
ATTACH;FMTTYPE=image/webp:https://www.salondeprovence.fr/wp-content/uploads/2025/11/lecture.webp
END:VEVENT
END:VCALENDAR