BEGIN:VCALENDAR
VERSION:2.0
PRODID:-//Ville de Salon-de-Provence - ECPv6.15.17.1//NONSGML v1.0//EN
CALSCALE:GREGORIAN
METHOD:PUBLISH
X-WR-CALNAME:Ville de Salon-de-Provence
X-ORIGINAL-URL:https://www.salondeprovence.fr
X-WR-CALDESC:Évènements pour Ville de Salon-de-Provence
REFRESH-INTERVAL;VALUE=DURATION:PT1H
X-Robots-Tag:noindex
X-PUBLISHED-TTL:PT1H
BEGIN:VTIMEZONE
TZID:Europe/Paris
BEGIN:DAYLIGHT
TZOFFSETFROM:+0100
TZOFFSETTO:+0200
TZNAME:CEST
DTSTART:20240331T010000
END:DAYLIGHT
BEGIN:STANDARD
TZOFFSETFROM:+0200
TZOFFSETTO:+0100
TZNAME:CET
DTSTART:20241027T010000
END:STANDARD
BEGIN:DAYLIGHT
TZOFFSETFROM:+0100
TZOFFSETTO:+0200
TZNAME:CEST
DTSTART:20250330T010000
END:DAYLIGHT
BEGIN:STANDARD
TZOFFSETFROM:+0200
TZOFFSETTO:+0100
TZNAME:CET
DTSTART:20251026T010000
END:STANDARD
BEGIN:DAYLIGHT
TZOFFSETFROM:+0100
TZOFFSETTO:+0200
TZNAME:CEST
DTSTART:20260329T010000
END:DAYLIGHT
BEGIN:STANDARD
TZOFFSETFROM:+0200
TZOFFSETTO:+0100
TZNAME:CET
DTSTART:20261025T010000
END:STANDARD
END:VTIMEZONE
BEGIN:VEVENT
DTSTART;TZID=Europe/Paris:20251002T100000
DTEND;TZID=Europe/Paris:20251025T180000
DTSTAMP:20260419T205558
CREATED:20250829T072128Z
LAST-MODIFIED:20250929T081806Z
UID:10001684-1759399200-1761415200@www.salondeprovence.fr
SUMMARY:Exposition La Matière et l’Esprit
DESCRIPTION:Du 2 au 25 octobre \nDu lundi au samedi 10h/12h\, 14h/18h – Espace culturel Robert de Lamanon \nL’exposition rétrospective consacrée à Maurice Rocher (1918-1995) invite à redécouvrir l’œuvre puissante de cet artiste expressionniste. Né en 1918 à Évron (Mayenne)\, il a marqué son époque par une peinture vibrante\, où l’intensité des couleurs et des formes exprime toute la complexité de la condition humaine. Une immersion unique dans l’univers d’un peintre de l’expressionnisme à redécouvrir. \nVernissage le vendredi 3 octobre à 18h30
URL:https://www.salondeprovence.fr/agenda/exposition-la-matiere-et-lesprit/
LOCATION:Salon-de-Provence\, Provence-Alpes-Côte d'Azur\, 13300\, France
CATEGORIES:Expositions
ATTACH;FMTTYPE=image/jpeg:https://www.salondeprovence.fr/wp-content/uploads/2025/08/La-Matiere-et-lEsprit-n°3-1974.jpeg
GEO:43.6499323;5.0702794
END:VEVENT
BEGIN:VEVENT
DTSTART;TZID=Europe/Paris:20251008T080000
DTEND;TZID=Europe/Paris:20251012T180000
DTSTAMP:20260419T205558
CREATED:20250829T081711Z
LAST-MODIFIED:20251008T075803Z
UID:10002357-1759910400-1760292000@www.salondeprovence.fr
SUMMARY:Opération Brioches
DESCRIPTION:Du 6 au 12 octobre \nL’association des Papillons Blancs propose à nouveau son « Opération Brioches » pour récolter des fonds\, à travers toute la ville. Des stands seront présents dans le centre-ville\, sur les marchés et dans les grandes surfaces. Le but est de satisfaire les papilles de chacun en dégustant une brioche\, tout en soutenant les actions menées pour les jeunes des Papillons Blancs. \nRéservations : 04 90 17 06 10 / papillonsblancsdesalon@yahoo.com
URL:https://www.salondeprovence.fr/agenda/operation-brioches/2025-10-08/
LOCATION:Salon-de-Provence\, Provence-Alpes-Côte d'Azur\, 13300\, France
CATEGORIES:Autres
ATTACH;FMTTYPE=image/jpeg:https://www.salondeprovence.fr/wp-content/uploads/2025/08/Operation-Brioches-scaled.jpg
GEO:43.6499323;5.0702794
END:VEVENT
BEGIN:VEVENT
DTSTART;VALUE=DATE:20251010
DTEND;VALUE=DATE:20251013
DTSTAMP:20260419T205558
CREATED:20250901T081849Z
LAST-MODIFIED:20251008T141121Z
UID:10001711-1760054400-1760313599@www.salondeprovence.fr
SUMMARY:La Fête de la Science
DESCRIPTION:Les 10\, 11 et 12 octobre\, venez découvrir la Fête de la Science à Salon ! \nCe week-end en entrée libre met en lumière la richesse de la recherche et de la technologie à travers de nombreuses activités interactives et éducatives\, de la biodiversité à la santé\, des sciences humaines et sociales à l’astrophysique\, en passant par les arts. \nVendredi 10 octobre : \nConférence annulée : à 17h30\,  conférence « Science et société : des relations tumultueuses ». \nConférence à 18h30 à l’Auditorium : « Restauration écologique ou comment réparer la nature »\, par Elise Buisson\, enseignante chercheure à Avignon Université. \nSamedi 11 octobre\, de 10h à 18h\, le Village des Sciences se dévoile à l’Espace Charles Trenet avec des expériences surprenantes\, des manipulations ludiques\, des expositions captivantes et des conférences enrichissantes. \nPour retrouver tous les stands présents sur le week-end\, cliquez ICI. \nDimanche 12 octobre à 15h30 : projection du film Interstellar au CinéPlanet (7 euros pour les adultes et 5 euros pour les moins de 16 ans)\, suivie d’une conférence\, à 18h30\, animée par l’astrophysicien et directeur de recherches émérite au laboratoire d’Astrophysique de Marseille\, Jean-Pierre Luminet\, avec signature de ses livres. La conférence revient sur les théories scientifiques évoquées dans le film : trous noirs\, théorie des cordes\, distorsions de l’espace et du temps…
URL:https://www.salondeprovence.fr/agenda/la-fete-de-la-science/
LOCATION:Provence-Alpes-Côte d'Azur
CATEGORIES:Animations et ateliers,Autres,Foires et Salons
ATTACH;FMTTYPE=image/jpeg:https://www.salondeprovence.fr/wp-content/uploads/2024/04/Science-enfants-stage-vacances-600x600-1.jpg
END:VEVENT
END:VCALENDAR