BEGIN:VCALENDAR
VERSION:2.0
PRODID:-//Ville de Salon-de-Provence - ECPv6.15.17.1//NONSGML v1.0//EN
CALSCALE:GREGORIAN
METHOD:PUBLISH
X-ORIGINAL-URL:https://www.salondeprovence.fr
X-WR-CALDESC:Évènements pour Ville de Salon-de-Provence
REFRESH-INTERVAL;VALUE=DURATION:PT1H
X-Robots-Tag:noindex
X-PUBLISHED-TTL:PT1H
BEGIN:VTIMEZONE
TZID:Europe/Paris
BEGIN:DAYLIGHT
TZOFFSETFROM:+0100
TZOFFSETTO:+0200
TZNAME:CEST
DTSTART:20240331T010000
END:DAYLIGHT
BEGIN:STANDARD
TZOFFSETFROM:+0200
TZOFFSETTO:+0100
TZNAME:CET
DTSTART:20241027T010000
END:STANDARD
BEGIN:DAYLIGHT
TZOFFSETFROM:+0100
TZOFFSETTO:+0200
TZNAME:CEST
DTSTART:20250330T010000
END:DAYLIGHT
BEGIN:STANDARD
TZOFFSETFROM:+0200
TZOFFSETTO:+0100
TZNAME:CET
DTSTART:20251026T010000
END:STANDARD
BEGIN:DAYLIGHT
TZOFFSETFROM:+0100
TZOFFSETTO:+0200
TZNAME:CEST
DTSTART:20260329T010000
END:DAYLIGHT
BEGIN:STANDARD
TZOFFSETFROM:+0200
TZOFFSETTO:+0100
TZNAME:CET
DTSTART:20261025T010000
END:STANDARD
END:VTIMEZONE
BEGIN:VEVENT
DTSTART;TZID=Europe/Paris:20250913T100000
DTEND;TZID=Europe/Paris:20250913T180000
DTSTAMP:20260419T193259
CREATED:20250905T155804Z
LAST-MODIFIED:20250912T154044Z
UID:10002324-1757757600-1757786400@www.salondeprovence.fr
SUMMARY:Vide-atelier d'artistes - ANNULÉ
DESCRIPTION:ANNULÉ \nSamedi 13 septembre \nDe 10h à 18h – Kiosque Vincent Scotto \nL’association PSP’ART s’affiche hors les murs ! Ce vide-atelier d’artistes est un nouveau concept de l’association artistique pour permettre à des artistes de rencontrer un nouveau public dans un beau lieu de Salon !
URL:https://www.salondeprovence.fr/agenda/vide-atelier-dartistes/
LOCATION:Provence-Alpes-Côte d'Azur
CATEGORIES:Animations et ateliers,Expositions
ATTACH;FMTTYPE=image/jpeg:https://www.salondeprovence.fr/wp-content/uploads/2025/09/PSP-vide-Atelier-3.jpg
END:VEVENT
END:VCALENDAR