BEGIN:VCALENDAR
VERSION:2.0
PRODID:-//Ville de Salon-de-Provence - ECPv6.15.17.1//NONSGML v1.0//EN
CALSCALE:GREGORIAN
METHOD:PUBLISH
X-WR-CALNAME:Ville de Salon-de-Provence
X-ORIGINAL-URL:https://www.salondeprovence.fr
X-WR-CALDESC:Évènements pour Ville de Salon-de-Provence
REFRESH-INTERVAL;VALUE=DURATION:PT1H
X-Robots-Tag:noindex
X-PUBLISHED-TTL:PT1H
BEGIN:VTIMEZONE
TZID:Europe/Paris
BEGIN:DAYLIGHT
TZOFFSETFROM:+0100
TZOFFSETTO:+0200
TZNAME:CEST
DTSTART:20240331T010000
END:DAYLIGHT
BEGIN:STANDARD
TZOFFSETFROM:+0200
TZOFFSETTO:+0100
TZNAME:CET
DTSTART:20241027T010000
END:STANDARD
BEGIN:DAYLIGHT
TZOFFSETFROM:+0100
TZOFFSETTO:+0200
TZNAME:CEST
DTSTART:20250330T010000
END:DAYLIGHT
BEGIN:STANDARD
TZOFFSETFROM:+0200
TZOFFSETTO:+0100
TZNAME:CET
DTSTART:20251026T010000
END:STANDARD
BEGIN:DAYLIGHT
TZOFFSETFROM:+0100
TZOFFSETTO:+0200
TZNAME:CEST
DTSTART:20260329T010000
END:DAYLIGHT
BEGIN:STANDARD
TZOFFSETFROM:+0200
TZOFFSETTO:+0100
TZNAME:CET
DTSTART:20261025T010000
END:STANDARD
END:VTIMEZONE
BEGIN:VEVENT
DTSTART;TZID=Europe/Paris:20250903T080000
DTEND;TZID=Europe/Paris:20250903T170000
DTSTAMP:20260419T192943
CREATED:20250828T132411Z
LAST-MODIFIED:20250910T142210Z
UID:10001668-1756886400-1756918800@www.salondeprovence.fr
SUMMARY:Exposition Couleurs et Lumières
DESCRIPTION:Jusqu’au 27 septembre \nDu lundi au samedi 10h/12h\, 14h/18h – Espace culturel Robert de Lamanon \nYann Rebecq est un coloriste dont les œuvres\, souvent à la limite de l’irréel\, captivent par la subtilité de l’assemblage des couleurs. Influencé par son enfance en Nouvelle-Calédonie\, il a étudié en France sous la tutelle de grands artistes. Ses créations sont exposées mondialement\, notamment en Chine\, où il connaît un succès grandissant.
URL:https://www.salondeprovence.fr/agenda/exposition-couleurs-et-lumieres-2/2025-09-03/
LOCATION:Salon-de-Provence\, Provence-Alpes-Côte d'Azur\, 13300\, France
CATEGORIES:Expositions
ATTACH;FMTTYPE=image/jpeg:https://www.salondeprovence.fr/wp-content/uploads/2025/08/156753525-image-d-arriere-plan-de-la-palette-de-peinture-a-l-huile-fermer.jpg
GEO:43.6499323;5.0702794
END:VEVENT
END:VCALENDAR